BEGIN:VCALENDAR
VERSION:2.0
PRODID:-//E-Campus - ECPv6.15.12.2//NONSGML v1.0//EN
CALSCALE:GREGORIAN
METHOD:PUBLISH
X-WR-CALNAME:E-Campus
X-ORIGINAL-URL:https://ecampus.janssenenpartners.com
X-WR-CALDESC:Events for E-Campus
REFRESH-INTERVAL;VALUE=DURATION:PT1H
X-Robots-Tag:noindex
X-PUBLISHED-TTL:PT1H
BEGIN:VTIMEZONE
TZID:America/Paramaribo
BEGIN:STANDARD
TZOFFSETFROM:-0300
TZOFFSETTO:-0300
TZNAME:-03
DTSTART:20240101T000000
END:STANDARD
END:VTIMEZONE
BEGIN:VEVENT
DTSTART;TZID=America/Paramaribo:20251226T080000
DTEND;TZID=America/Paramaribo:20251226T170000
DTSTAMP:20260419T123253
CREATED:20240628T140032Z
LAST-MODIFIED:20250604T155942Z
UID:983-1766736000-1766768400@ecampus.janssenenpartners.com
SUMMARY:Tweede Kerstdag
DESCRIPTION:
URL:https://ecampus.janssenenpartners.com/kalender/tweede-kerstdag/
CATEGORIES:Nationale Vrije Dag
END:VEVENT
END:VCALENDAR